BEGIN:VCALENDAR
VERSION:2.0
PRODID:-//Performance Academy - ECPv6.15.17.1//NONSGML v1.0//EN
CALSCALE:GREGORIAN
METHOD:PUBLISH
X-ORIGINAL-URL:https://asperformanceacademy.org
X-WR-CALDESC:Events for Performance Academy
REFRESH-INTERVAL;VALUE=DURATION:PT1H
X-Robots-Tag:noindex
X-PUBLISHED-TTL:PT1H
BEGIN:VTIMEZONE
TZID:Europe/London
BEGIN:DAYLIGHT
TZOFFSETFROM:+0000
TZOFFSETTO:+0100
TZNAME:BST
DTSTART:20250330T010000
END:DAYLIGHT
BEGIN:STANDARD
TZOFFSETFROM:+0100
TZOFFSETTO:+0000
TZNAME:GMT
DTSTART:20251026T010000
END:STANDARD
BEGIN:DAYLIGHT
TZOFFSETFROM:+0000
TZOFFSETTO:+0100
TZNAME:BST
DTSTART:20260329T010000
END:DAYLIGHT
BEGIN:STANDARD
TZOFFSETFROM:+0100
TZOFFSETTO:+0000
TZNAME:GMT
DTSTART:20261025T010000
END:STANDARD
BEGIN:DAYLIGHT
TZOFFSETFROM:+0000
TZOFFSETTO:+0100
TZNAME:BST
DTSTART:20270328T010000
END:DAYLIGHT
BEGIN:STANDARD
TZOFFSETFROM:+0100
TZOFFSETTO:+0000
TZNAME:GMT
DTSTART:20271031T010000
END:STANDARD
END:VTIMEZONE
BEGIN:VEVENT
DTSTART;VALUE=DATE:20260220
DTEND;VALUE=DATE:20260223
DTSTAMP:20260423T221808
CREATED:20260216T020105Z
LAST-MODIFIED:20260216T020105Z
UID:10002178-1771545600-1771804799@asperformanceacademy.org
SUMMARY:Invitational: ILCA 7 Group ILCA 7 Performance Training Camp
DESCRIPTION:Tailored towards those in the top 50% of the national fleet\, our 25/26 ILCA 7 programme will be supplementary to the UK ILCA training. \n \nDefined by small-group\, intensive coaching\, our ILCA 7 programme will allow you to gain the consistency\, intensity\, and international exposure you need to shine on the U21 and senior stages. \n \nFor more information\, please get in touch with us by emailing enquiries@asperformanceacademy.org
URL:https://asperformanceacademy.org/event/invitational-ilca-7-group-ilca-7-performance-training-camp-2/
LOCATION:WPNSA\, Osprey Quay\, Portland\, Dorset\, DT5 1SA\, UK
ATTACH;FMTTYPE=image/jpeg:https://asperformanceacademy.org/wp-content/uploads/2024/03/ILCA-7-Euromed-International-Championship.jpg
GEO:50.5703612;-2.455625
X-APPLE-STRUCTURED-LOCATION;VALUE=URI;X-ADDRESS=WPNSA Osprey Quay Portland Dorset DT5 1SA UK;X-APPLE-RADIUS=500;X-TITLE=Osprey Quay:geo:-2.455625,50.5703612
END:VEVENT
BEGIN:VEVENT
DTSTART;VALUE=DATE:20260221
DTEND;VALUE=DATE:20260223
DTSTAMP:20260423T221809
CREATED:20260219T020105Z
LAST-MODIFIED:20260219T020105Z
UID:10002183-1771632000-1771804799@asperformanceacademy.org
SUMMARY:Invitational: Athena Pathway U18 WASZP Squad Camp 4
DESCRIPTION:This is the fourth camp for the U18 Athena WASZP squad. \n \nThis is an invitation only squad. \n \nThis year’s squad system is designed to provide British female and youth athletes with the experiences and opportunities they need to achieve future success in professional foiling racing\, with a clear trajectory towards competitions like the Youth & Women’s America’s Cup and SailGP. \n \nIf you have any questions about the Athena Foiling Pathway\, the WASZP class\, or foiling in general\, please get in touch with us at enquiries@asperformanceacademy.org 
URL:https://asperformanceacademy.org/event/invitational-athena-pathway-u18-waszp-squad-camp-4/
LOCATION:WPNSA\, Osprey Quay\, Portland\, Dorset\, DT5 1SA\, UK
ATTACH;FMTTYPE=image/png:https://asperformanceacademy.org/wp-content/uploads/2024/09/Athena-U18-Squad.png
GEO:50.5703612;-2.455625
X-APPLE-STRUCTURED-LOCATION;VALUE=URI;X-ADDRESS=WPNSA Osprey Quay Portland Dorset DT5 1SA UK;X-APPLE-RADIUS=500;X-TITLE=Osprey Quay:geo:-2.455625,50.5703612
END:VEVENT
BEGIN:VEVENT
DTSTART;VALUE=DATE:20260221
DTEND;VALUE=DATE:20260223
DTSTAMP:20260423T221809
CREATED:20260215T020104Z
LAST-MODIFIED:20260215T020104Z
UID:10002177-1771632000-1771804799@asperformanceacademy.org
SUMMARY:Invitational: Athena Pathway U23 WASZP Squad Camp 3
DESCRIPTION:This is the third camp for the U23 Athena WASZP squad. \n \nThis is an invitation only squad. \n \nThis year’s squad system is designed to provide British female and youth athletes with the experiences and opportunities they need to achieve future success in professional foiling racing\, with a clear trajectory towards competitions like the Youth & Women’s America’s Cup and SailGP. \n \nIf you have any questions about the Athena Foiling Pathway\, the WASZP class\, or foiling in general\, please get in touch with us at enquiries@asperformanceacademy.org 
URL:https://asperformanceacademy.org/event/invitational-athena-pathway-u23-waszp-squad-camp-3/
LOCATION:WPNSA\, Osprey Quay\, Portland\, Dorset\, DT5 1SA\, UK
ATTACH;FMTTYPE=image/jpeg:https://asperformanceacademy.org/wp-content/uploads/2024/09/Athena-U21-Squad.jpg
GEO:50.5703612;-2.455625
X-APPLE-STRUCTURED-LOCATION;VALUE=URI;X-ADDRESS=WPNSA Osprey Quay Portland Dorset DT5 1SA UK;X-APPLE-RADIUS=500;X-TITLE=Osprey Quay:geo:-2.455625,50.5703612
END:VEVENT
BEGIN:VEVENT
DTSTART;VALUE=DATE:20260228
DTEND;VALUE=DATE:20260302
DTSTAMP:20260423T221809
CREATED:20260225T020122Z
LAST-MODIFIED:20260225T020122Z
UID:10002199-1772236800-1772409599@asperformanceacademy.org
SUMMARY:WindFoil Foiling Pathway Programme
DESCRIPTION:
URL:https://asperformanceacademy.org/event/windfoil-foiling-pathway-programme-18/
LOCATION:Andrew Simpson Centre Portsmouth\, Eastern Road\, Portsmouth\, Hampshire\, PO3 5LY\, UK
ATTACH;FMTTYPE=image/png:https://asperformanceacademy.org/wp-content/uploads/2024/02/Windfoil-Foiling-Pathway-Programme-Performance-Academy.png
GEO:50.8291436;-1.0451772
X-APPLE-STRUCTURED-LOCATION;VALUE=URI;X-ADDRESS=Andrew Simpson Centre Portsmouth Eastern Road Portsmouth Hampshire PO3 5LY UK;X-APPLE-RADIUS=500;X-TITLE=Eastern Road:geo:-1.0451772,50.8291436
END:VEVENT
BEGIN:VEVENT
DTSTART;VALUE=DATE:20260307
DTEND;VALUE=DATE:20260309
DTSTAMP:20260423T221809
CREATED:20260301T020105Z
LAST-MODIFIED:20260301T020105Z
UID:10002206-1772841600-1773014399@asperformanceacademy.org
SUMMARY:Invitational: ILCA 6 Group ILCA 6 Training
DESCRIPTION:Our ILCA 6 Training Programme is aimed at sailors ranked in the top 75% of the national fleet.  \n \nThis training will supplement ILCA UK National Training through monthly training weekends implementing on-water drills with strength and conditioning to position you for success on the 2026 calendar. \n \nLooking to find out more about our ILCA 6 programme? Get in touch with us by emailing enquiries@asperformanceacademy.org
URL:https://asperformanceacademy.org/event/invitational-ilca-6-group-ilca-6-training-7/
LOCATION:WPNSA\, Osprey Quay\, Portland\, Dorset\, DT5 1SA\, UK
ATTACH;FMTTYPE=image/png:https://asperformanceacademy.org/wp-content/uploads/2024/02/ILCA-6-Performance-Academy.png
GEO:50.5703612;-2.455625
X-APPLE-STRUCTURED-LOCATION;VALUE=URI;X-ADDRESS=WPNSA Osprey Quay Portland Dorset DT5 1SA UK;X-APPLE-RADIUS=500;X-TITLE=Osprey Quay:geo:-2.455625,50.5703612
END:VEVENT
BEGIN:VEVENT
DTSTART;VALUE=DATE:20260314
DTEND;VALUE=DATE:20260316
DTSTAMP:20260423T221809
CREATED:20260311T020105Z
LAST-MODIFIED:20260311T020105Z
UID:10002216-1773446400-1773619199@asperformanceacademy.org
SUMMARY:Invitational: Athena Pathway U23 WASZP Squad Camp 4
DESCRIPTION:This is the fourth camp for the U23 Athena WASZP squad. \n \nThis is an invitation only squad. \n \nThis year’s squad system is designed to provide British female and youth athletes with the experiences and opportunities they need to achieve future success in professional foiling racing\, with a clear trajectory towards competitions like the Youth & Women’s America’s Cup and SailGP. \n \nIf you have any questions about the Athena Foiling Pathway\, the WASZP class\, or foiling in general\, please get in touch with us at enquiries@asperformanceacademy.org 
URL:https://asperformanceacademy.org/event/invitational-athena-pathway-u23-waszp-squad-camp-4/
LOCATION:WPNSA\, Osprey Quay\, Portland\, Dorset\, DT5 1SA\, UK
ATTACH;FMTTYPE=image/jpeg:https://asperformanceacademy.org/wp-content/uploads/2024/09/Athena-U21-Squad.jpg
GEO:50.5703612;-2.455625
X-APPLE-STRUCTURED-LOCATION;VALUE=URI;X-ADDRESS=WPNSA Osprey Quay Portland Dorset DT5 1SA UK;X-APPLE-RADIUS=500;X-TITLE=Osprey Quay:geo:-2.455625,50.5703612
END:VEVENT
BEGIN:VEVENT
DTSTART;VALUE=DATE:20260321
DTEND;VALUE=DATE:20260323
DTSTAMP:20260423T221809
CREATED:20260317T020105Z
LAST-MODIFIED:20260317T020105Z
UID:10002220-1774051200-1774223999@asperformanceacademy.org
SUMMARY:Invitational: Athena Pathway U18 Open
DESCRIPTION:This Athena Pathway U18 Open WASZP Training is for U18 sailors who have their own boats\, are getting their basics locked in\, learning how to race the WASZP\, and who want to get into the Athena Foiling Pathway squads in the future. \n \nIf you have any questions about the Athena Foiling Pathway\, the WASZP class\, or foiling in general\, please get in touch with us at enquiries@asperformanceacademy.org 
URL:https://asperformanceacademy.org/event/invitational-athena-pathway-u18-open-2/
LOCATION:WPNSA\, Osprey Quay\, Portland\, Dorset\, DT5 1SA\, UK
ATTACH;FMTTYPE=image/png:https://asperformanceacademy.org/wp-content/uploads/2024/09/Athena-U18-Squad.png
GEO:50.5703612;-2.455625
X-APPLE-STRUCTURED-LOCATION;VALUE=URI;X-ADDRESS=WPNSA Osprey Quay Portland Dorset DT5 1SA UK;X-APPLE-RADIUS=500;X-TITLE=Osprey Quay:geo:-2.455625,50.5703612
END:VEVENT
BEGIN:VEVENT
DTSTART;VALUE=DATE:20260328
DTEND;VALUE=DATE:20260329
DTSTAMP:20260423T221809
CREATED:20260312T020105Z
LAST-MODIFIED:20260312T020105Z
UID:10002217-1774656000-1774742399@asperformanceacademy.org
SUMMARY:Invitational: Athena Pathway Junior U18 WASZP Taster Day
DESCRIPTION:We are delighted to present these taster sessions based out of Weymouth and Portland National Sailing Academy. \n \nSessions will run from 0930 – 1630 and the price is inclusive of WASZP charter. \n \nThe day will include basic foiling theory\, WASZP rigging\, and\, of course\, time on the water to experience first flights and work on sustained foiling. \n \nThrough the Athena Foiling Pathway\, sailors can join up to 1x Taster Day and 2x Skills Camp weekends. \n \nSuitable for experienced sailors aged 13-18. \n \nFor more information please get in touch by emailing enquiries@asperformanceacademy.org
URL:https://asperformanceacademy.org/event/invitational-athena-pathway-junior-u18-waszp-taster-day-5/
LOCATION:WPNSA\, Osprey Quay\, Portland\, Dorset\, DT5 1SA\, UK
ATTACH;FMTTYPE=image/png:https://asperformanceacademy.org/wp-content/uploads/2024/02/Athena-U18-Foiling-Tasters.png
GEO:50.5703612;-2.455625
X-APPLE-STRUCTURED-LOCATION;VALUE=URI;X-ADDRESS=WPNSA Osprey Quay Portland Dorset DT5 1SA UK;X-APPLE-RADIUS=500;X-TITLE=Osprey Quay:geo:-2.455625,50.5703612
END:VEVENT
BEGIN:VEVENT
DTSTART;VALUE=DATE:20260328
DTEND;VALUE=DATE:20260330
DTSTAMP:20260423T221809
CREATED:20260328T020105Z
LAST-MODIFIED:20260328T020105Z
UID:10002258-1774656000-1774828799@asperformanceacademy.org
SUMMARY:WindFoil Foiling Pathway Programme
DESCRIPTION:
URL:https://asperformanceacademy.org/event/windfoil-foiling-pathway-programme-19/
LOCATION:Andrew Simpson Centre Portsmouth\, Eastern Road\, Portsmouth\, Hampshire\, PO3 5LY\, UK
ATTACH;FMTTYPE=image/png:https://asperformanceacademy.org/wp-content/uploads/2024/02/Windfoil-Foiling-Pathway-Programme-Performance-Academy.png
GEO:50.8291436;-1.0451772
X-APPLE-STRUCTURED-LOCATION;VALUE=URI;X-ADDRESS=Andrew Simpson Centre Portsmouth Eastern Road Portsmouth Hampshire PO3 5LY UK;X-APPLE-RADIUS=500;X-TITLE=Eastern Road:geo:-1.0451772,50.8291436
END:VEVENT
BEGIN:VEVENT
DTSTART;VALUE=DATE:20260328
DTEND;VALUE=DATE:20260330
DTSTAMP:20260423T221809
CREATED:20260322T020106Z
LAST-MODIFIED:20260322T020106Z
UID:10002239-1774656000-1774828799@asperformanceacademy.org
SUMMARY:Invitational: X15 Selection Weekend 1 (including Holy Moly League entry)
DESCRIPTION:Join us at WPNSA for our first selection weekend for the new X15 Youth Performance Pathway. \n \nThis two-day selection event will include: \n\nUsing the new X15 equipment\nRace drills and activities\nEntry to the Holy Moly League racing on Sunday\n\nAll sailors are expected to bring their own wing equipment and will be switching onto X15 kit throughout the weekend.  \n \nFor more information\, get in touch with us at enquiries@asperformanceacademy.org
URL:https://asperformanceacademy.org/event/invitational-x15-selection-weekend-1-including-holy-moly-league-entry/
LOCATION:WPNSA\, Osprey Quay\, Portland\, Dorset\, DT5 1SA\, UK
ATTACH;FMTTYPE=image/png:https://asperformanceacademy.org/wp-content/uploads/2026/03/X15-Performance-Academy.png
GEO:50.5703612;-2.455625
X-APPLE-STRUCTURED-LOCATION;VALUE=URI;X-ADDRESS=WPNSA Osprey Quay Portland Dorset DT5 1SA UK;X-APPLE-RADIUS=500;X-TITLE=Osprey Quay:geo:-2.455625,50.5703612
END:VEVENT
BEGIN:VEVENT
DTSTART;VALUE=DATE:20260329
DTEND;VALUE=DATE:20260330
DTSTAMP:20260423T221810
CREATED:20260323T020104Z
LAST-MODIFIED:20260323T020104Z
UID:10002242-1774742400-1774828799@asperformanceacademy.org
SUMMARY:Invitational: Athena Pathway Junior U18 WASZP Taster Day
DESCRIPTION:We are delighted to present these taster sessions based out of Weymouth and Portland National Sailing Academy. \n \nSessions will run from 0930 – 1630 and the price is inclusive of WASZP charter. \n \nThe day will include basic foiling theory\, WASZP rigging\, and\, of course\, time on the water to experience first flights and work on sustained foiling. \n \nThrough the Athena Foiling Pathway\, sailors can join up to 1x Taster Day and 2x Skills Camp weekends. \n \nSuitable for experienced sailors aged 13-18. \n \nFor more information please get in touch by emailing enquiries@asperformanceacademy.org
URL:https://asperformanceacademy.org/event/invitational-athena-pathway-junior-u18-waszp-taster-day-4/
LOCATION:WPNSA\, Osprey Quay\, Portland\, Dorset\, DT5 1SA\, UK
ATTACH;FMTTYPE=image/png:https://asperformanceacademy.org/wp-content/uploads/2024/02/Athena-U18-Foiling-Tasters.png
GEO:50.5703612;-2.455625
X-APPLE-STRUCTURED-LOCATION;VALUE=URI;X-ADDRESS=WPNSA Osprey Quay Portland Dorset DT5 1SA UK;X-APPLE-RADIUS=500;X-TITLE=Osprey Quay:geo:-2.455625,50.5703612
END:VEVENT
BEGIN:VEVENT
DTSTART;VALUE=DATE:20260330
DTEND;VALUE=DATE:20260402
DTSTAMP:20260423T221810
CREATED:20260325T020108Z
LAST-MODIFIED:20260325T020108Z
UID:10002250-1774828800-1775087999@asperformanceacademy.org
SUMMARY:Invitational: ILCA 6 Group ILCA 6 Group Training
DESCRIPTION:Our ILCA 6 Training Programme is aimed at sailors ranked in the top 75% of the national fleet.  \n \nThis training will supplement ILCA UK National Training through monthly training weekends implementing on-water drills with strength and conditioning to position you for success on the 2026 calendar. \n \nLooking to find out more about our ILCA 6 programme? Get in touch with us by emailing enquiries@asperformanceacademy.org
URL:https://asperformanceacademy.org/event/invitational-ilca-6-group-ilca-6-group-training/
LOCATION:WPNSA\, Osprey Quay\, Portland\, Dorset\, DT5 1SA\, UK
ATTACH;FMTTYPE=image/png:https://asperformanceacademy.org/wp-content/uploads/2024/02/ILCA-6-Performance-Academy.png
GEO:50.5703612;-2.455625
X-APPLE-STRUCTURED-LOCATION;VALUE=URI;X-ADDRESS=WPNSA Osprey Quay Portland Dorset DT5 1SA UK;X-APPLE-RADIUS=500;X-TITLE=Osprey Quay:geo:-2.455625,50.5703612
END:VEVENT
BEGIN:VEVENT
DTSTART;VALUE=DATE:20260330
DTEND;VALUE=DATE:20260403
DTSTAMP:20260423T221810
CREATED:20260324T020107Z
LAST-MODIFIED:20260324T020107Z
UID:10002245-1774828800-1775174399@asperformanceacademy.org
SUMMARY:Invitational: ILCA 4 Group Europeans Pre-Event Training Camp
DESCRIPTION:This training camp is aimed at sailors looking to attend the ILCA 4 Youth European Championships. \n \nJoin us in Weymouth to prepare for the ILCA 4 Youth Europeans! \n \nWhether you're attending your first international event\, or seeking a podium place\, this training camp will set you up to race at your best in Mar Menor.  \n \nThis training camp will include: \n\nDaily briefs and debriefs\nVideo analysis \nStretching and activation\nFocused on-water sessions\n\nFor more information\, email us at enquiries@asperformanceacademy.org
URL:https://asperformanceacademy.org/event/invitational-ilca-4-group-europeans-pre-event-training-camp/
LOCATION:WPNSA\, Osprey Quay\, Portland\, Dorset\, DT5 1SA\, UK
ATTACH;FMTTYPE=image/png:https://asperformanceacademy.org/wp-content/uploads/2024/02/ILCA-4-Training-Performance-Academy.png.png
GEO:50.5703612;-2.455625
X-APPLE-STRUCTURED-LOCATION;VALUE=URI;X-ADDRESS=WPNSA Osprey Quay Portland Dorset DT5 1SA UK;X-APPLE-RADIUS=500;X-TITLE=Osprey Quay:geo:-2.455625,50.5703612
END:VEVENT
BEGIN:VEVENT
DTSTART;VALUE=DATE:20260405
DTEND;VALUE=DATE:20260410
DTSTAMP:20260423T221810
CREATED:20260403T020106Z
LAST-MODIFIED:20260403T020106Z
UID:10002268-1775347200-1775779199@asperformanceacademy.org
SUMMARY:Invitational: ILCA 4 - Event Support ESP Europa Cup Event Support
DESCRIPTION:Join our expert ILCA coaching team for the EurILCA Europa Cup in Mar Menor\, Spain. Whether you're a seasoned pro or approaching your first international regatta\, our coaches will get you to the start line with confidence. \n \nThe event support will include: \n\nVenue familiarisation\nA day of pre-regatta training\nDaily briefings\nOn-water coach support during the event\nDaily debriefs\nStretching and activation\n\nThis event is perfect pre-regatta training for the ILCA 4 Youth Europeans in the same venue the following week.  \n \nGet in touch for more information: \nenquiries@asperformanceacademy.org
URL:https://asperformanceacademy.org/event/invitational-ilca-4-event-support-esp-europa-cup-event-support/
LOCATION:Mar Menor\, Murcia\, Av. Mariano Ballester 2\, 30710 Los Alcázares\, Murcia\, Spain\, Murcia\, Murcia\, 30710\, Spain
ATTACH;FMTTYPE=image/png:https://asperformanceacademy.org/wp-content/uploads/2024/02/Event-Support-Performance-Academy.png
GEO:37.75457;-0.8403081
X-APPLE-STRUCTURED-LOCATION;VALUE=URI;X-ADDRESS=Mar Menor Murcia Av. Mariano Ballester 2 30710 Los Alcázares Murcia Spain Murcia Murcia 30710 Spain;X-APPLE-RADIUS=500;X-TITLE=Av. Mariano Ballester 2\, 30710 Los Alcázares\, Murcia\, Spain:geo:-0.8403081,37.75457
END:VEVENT
BEGIN:VEVENT
DTSTART;VALUE=DATE:20260409
DTEND;VALUE=DATE:20260413
DTSTAMP:20260423T221810
CREATED:20260403T020104Z
LAST-MODIFIED:20260403T020104Z
UID:10002267-1775692800-1776038399@asperformanceacademy.org
SUMMARY:Invitational: ILCA 4 Group ILCA 4 Open Group Training
DESCRIPTION:Join us on the water at WPNSA for an ILCA 4 camp with our expert coaches! \n \nThis training camp is a perfect opportunity for sailors not attending the ILCA 4 Youth Europeans to get some extra time on the water.  \n \nWant to find out more? Get in touch by emailing enquiries@asperformanceacademy.org
URL:https://asperformanceacademy.org/event/invitational-ilca-4-group-ilca-4-open-group-training/
LOCATION:WPNSA\, Osprey Quay\, Portland\, Dorset\, DT5 1SA\, UK
ATTACH;FMTTYPE=image/png:https://asperformanceacademy.org/wp-content/uploads/2024/02/ILCA-4-Training-Performance-Academy.png.png
GEO:50.5703612;-2.455625
X-APPLE-STRUCTURED-LOCATION;VALUE=URI;X-ADDRESS=WPNSA Osprey Quay Portland Dorset DT5 1SA UK;X-APPLE-RADIUS=500;X-TITLE=Osprey Quay:geo:-2.455625,50.5703612
END:VEVENT
BEGIN:VEVENT
DTSTART;VALUE=DATE:20260418
DTEND;VALUE=DATE:20260419
DTSTAMP:20260423T221810
CREATED:20260418T020104Z
LAST-MODIFIED:20260418T020104Z
UID:10002284-1776470400-1776556799@asperformanceacademy.org
SUMMARY:WASZP Group Training Adult WASZP Taster Day
DESCRIPTION:This WASZP taster day is aimed at sailors 19+ who are looking to give foiling a go! \n \nThis one-day foiling taster is a perfect opportunity to learn something new and get out on the water in a small group to develop your skills. \n \nSailors wanting to sign up should have sailing experience and be confident in their abilities sailing upwind\, downwind\, tacking\, and gybing in a range of conditions. \n \nThe day will run from 09:30-16:30 in small groups of four sailors to one coach. \n \nPlease get in touch for more information: \nenquiries@asperformanceacademy.org
URL:https://asperformanceacademy.org/event/waszp-group-training-adult-waszp-taster-day-4/
LOCATION:WPNSA\, Osprey Quay\, Portland\, Dorset\, DT5 1SA\, UK
ATTACH;FMTTYPE=image/jpeg:https://asperformanceacademy.org/wp-content/uploads/2024/09/WASZP-Coaching-Event.jpg
GEO:50.5703612;-2.455625
X-APPLE-STRUCTURED-LOCATION;VALUE=URI;X-ADDRESS=WPNSA Osprey Quay Portland Dorset DT5 1SA UK;X-APPLE-RADIUS=500;X-TITLE=Osprey Quay:geo:-2.455625,50.5703612
END:VEVENT
BEGIN:VEVENT
DTSTART;VALUE=DATE:20260419
DTEND;VALUE=DATE:20260420
DTSTAMP:20260423T221810
CREATED:20251210T020105Z
LAST-MODIFIED:20251210T020105Z
UID:10002035-1776556800-1776643199@asperformanceacademy.org
SUMMARY:WASZP Group Training Adult WASZP Taster Day
DESCRIPTION:This WASZP taster day is aimed at sailors 19+ who are looking to give foiling a go! \n \nThis one-day foiling taster is a perfect opportunity to learn something new and get out on the water in a small group to develop your skills. \n \nSailors wanting to sign up should have sailing experience and be confident in their abilities sailing upwind\, downwind\, tacking\, and gybing in a range of conditions. \n \nThe day will run from 09:30-16:30 in small groups of four sailors to one coach. \n \nPlease get in touch for more information: \nenquiries@asperformanceacademy.org
URL:https://asperformanceacademy.org/event/waszp-group-training-adult-waszp-taster-day-3/
LOCATION:WPNSA\, Osprey Quay\, Portland\, Dorset\, DT5 1SA\, UK
ATTACH;FMTTYPE=image/jpeg:https://asperformanceacademy.org/wp-content/uploads/2024/09/WASZP-Coaching-Event.jpg
GEO:50.5703612;-2.455625
X-APPLE-STRUCTURED-LOCATION;VALUE=URI;X-ADDRESS=WPNSA Osprey Quay Portland Dorset DT5 1SA UK;X-APPLE-RADIUS=500;X-TITLE=Osprey Quay:geo:-2.455625,50.5703612
END:VEVENT
END:VCALENDAR