BEGIN:VCALENDAR
VERSION:2.0
PRODID:-//Performance Academy - ECPv6.15.17.1//NONSGML v1.0//EN
CALSCALE:GREGORIAN
METHOD:PUBLISH
X-WR-CALNAME:Performance Academy
X-ORIGINAL-URL:https://asperformanceacademy.org
X-WR-CALDESC:Events for Performance Academy
REFRESH-INTERVAL;VALUE=DURATION:PT1H
X-Robots-Tag:noindex
X-PUBLISHED-TTL:PT1H
BEGIN:VTIMEZONE
TZID:Europe/London
BEGIN:DAYLIGHT
TZOFFSETFROM:+0000
TZOFFSETTO:+0100
TZNAME:BST
DTSTART:20240331T010000
END:DAYLIGHT
BEGIN:STANDARD
TZOFFSETFROM:+0100
TZOFFSETTO:+0000
TZNAME:GMT
DTSTART:20241027T010000
END:STANDARD
BEGIN:DAYLIGHT
TZOFFSETFROM:+0000
TZOFFSETTO:+0100
TZNAME:BST
DTSTART:20250330T010000
END:DAYLIGHT
BEGIN:STANDARD
TZOFFSETFROM:+0100
TZOFFSETTO:+0000
TZNAME:GMT
DTSTART:20251026T010000
END:STANDARD
BEGIN:DAYLIGHT
TZOFFSETFROM:+0000
TZOFFSETTO:+0100
TZNAME:BST
DTSTART:20260329T010000
END:DAYLIGHT
BEGIN:STANDARD
TZOFFSETFROM:+0100
TZOFFSETTO:+0000
TZNAME:GMT
DTSTART:20261025T010000
END:STANDARD
END:VTIMEZONE
BEGIN:VEVENT
DTSTART;VALUE=DATE:20250728
DTEND;VALUE=DATE:20250805
DTSTAMP:20260423T171025
CREATED:20250307T152131Z
LAST-MODIFIED:20250307T152159Z
UID:10001233-1753660800-1754351999@asperformanceacademy.org
SUMMARY:ILCA 6 Youth World Championship Event Support
DESCRIPTION:Join our expert ILCA coaching team for the ILCA 6 Youth World Championships in Los Angeles. Whether you’re a seasoned pro or approaching your first international regatta\, our coaches will get you to the start line with confidence. \nThe package of 8 days will include: \n\nVenue familiarisation\n2 days of pre-regatta training\nDaily briefings\nOn-water coach support during the event\nDaily debriefs\nStretching and activation\n\nGet in touch for more information: enquiries@asperformanceacademy.org
URL:https://asperformanceacademy.org/event/ilca-6-youth-world-championship-event-support/
LOCATION:Cabrillo Beach Yacht Club\, Los Angeles\, Cabrillo Beach Yacht Club 211 W 22nd Street\, San Pedro\, CA\, CA 90731\, United States
ATTACH;FMTTYPE=image/png:https://asperformanceacademy.org/wp-content/uploads/2024/02/ILCA-6-Performance-Academy.png
GEO:33.7247221;-118.2823535
X-APPLE-STRUCTURED-LOCATION;VALUE=URI;X-ADDRESS=Cabrillo Beach Yacht Club Los Angeles Cabrillo Beach Yacht Club 211 W 22nd Street San Pedro CA CA 90731 United States;X-APPLE-RADIUS=500;X-TITLE=Cabrillo Beach Yacht Club 211 W 22nd Street:geo:-118.2823535,33.7247221
END:VEVENT
BEGIN:VEVENT
DTSTART;VALUE=DATE:20250717
DTEND;VALUE=DATE:20250727
DTSTAMP:20260423T171025
CREATED:20250307T151929Z
LAST-MODIFIED:20250523T143820Z
UID:10001232-1752710400-1753574399@asperformanceacademy.org
SUMMARY:ILCA 4 Youth World Championship Event Support
DESCRIPTION:Join our expert ILCA coaching team for the ILCA 4 Youth World Championships in Los Angeles. Whether you’re a seasoned pro or approaching your first international regatta\, our coaches will get you to the start line with confidence. \nThe package of 13 days will include: \n\nVenue familiarisation\n4 days of pre-regatta training\nDaily briefings\nOn-water coach support during the event\nDaily debriefs\nStretching and activation\n\nGet in touch for more information: enquiries@asperformanceacademy.org
URL:https://asperformanceacademy.org/event/ilca-4-youth-world-championship-event-support/
LOCATION:Cabrillo Beach Yacht Club\, Los Angeles\, Cabrillo Beach Yacht Club 211 W 22nd Street\, San Pedro\, CA\, CA 90731\, United States
ATTACH;FMTTYPE=image/png:https://asperformanceacademy.org/wp-content/uploads/2024/02/ILCA-4-Training-Performance-Academy.png.png
GEO:33.7247221;-118.2823535
X-APPLE-STRUCTURED-LOCATION;VALUE=URI;X-ADDRESS=Cabrillo Beach Yacht Club Los Angeles Cabrillo Beach Yacht Club 211 W 22nd Street San Pedro CA CA 90731 United States;X-APPLE-RADIUS=500;X-TITLE=Cabrillo Beach Yacht Club 211 W 22nd Street:geo:-118.2823535,33.7247221
END:VEVENT
END:VCALENDAR