BEGIN:VCALENDAR
VERSION:2.0
PRODID:-//Performance Academy - ECPv6.15.17.1//NONSGML v1.0//EN
CALSCALE:GREGORIAN
METHOD:PUBLISH
X-WR-CALNAME:Performance Academy
X-ORIGINAL-URL:https://asperformanceacademy.org
X-WR-CALDESC:Events for Performance Academy
REFRESH-INTERVAL;VALUE=DURATION:PT1H
X-Robots-Tag:noindex
X-PUBLISHED-TTL:PT1H
BEGIN:VTIMEZONE
TZID:Europe/London
BEGIN:DAYLIGHT
TZOFFSETFROM:+0000
TZOFFSETTO:+0100
TZNAME:BST
DTSTART:20250330T010000
END:DAYLIGHT
BEGIN:STANDARD
TZOFFSETFROM:+0100
TZOFFSETTO:+0000
TZNAME:GMT
DTSTART:20251026T010000
END:STANDARD
BEGIN:DAYLIGHT
TZOFFSETFROM:+0000
TZOFFSETTO:+0100
TZNAME:BST
DTSTART:20260329T010000
END:DAYLIGHT
BEGIN:STANDARD
TZOFFSETFROM:+0100
TZOFFSETTO:+0000
TZNAME:GMT
DTSTART:20261025T010000
END:STANDARD
BEGIN:DAYLIGHT
TZOFFSETFROM:+0000
TZOFFSETTO:+0100
TZNAME:BST
DTSTART:20270328T010000
END:DAYLIGHT
BEGIN:STANDARD
TZOFFSETFROM:+0100
TZOFFSETTO:+0000
TZNAME:GMT
DTSTART:20271031T010000
END:STANDARD
END:VTIMEZONE
BEGIN:VEVENT
DTSTART;VALUE=DATE:20260115
DTEND;VALUE=DATE:20260117
DTSTAMP:20260423T172430
CREATED:20260109T020105Z
LAST-MODIFIED:20260109T020105Z
UID:10002056-1768435200-1768607999@asperformanceacademy.org
SUMMARY:ILCA 7 Group Pre-Event Training
DESCRIPTION:
URL:https://asperformanceacademy.org/event/ilca-7-group-pre-event-training/
LOCATION:Marina Rubicón\, Lanzarote\, C. el Berrugo\, 2\, \n35580 Playa Blanca\, Lanzarote\, Las Palmas\, 35580\, Spain
ATTACH;FMTTYPE=image/webp:https://asperformanceacademy.org/wp-content/uploads/2024/02/400x225.webp
GEO:28.8606606;-13.8153884
X-APPLE-STRUCTURED-LOCATION;VALUE=URI;X-ADDRESS=Marina Rubicón Lanzarote C. el Berrugo 2 \n35580 Playa Blanca Lanzarote Las Palmas 35580 Spain;X-APPLE-RADIUS=500;X-TITLE=C. el Berrugo\, 2\, \n35580 Playa Blanca:geo:-13.8153884,28.8606606
END:VEVENT
END:VCALENDAR