BEGIN:VCALENDAR
VERSION:2.0
PRODID:-//Performance Academy - ECPv6.15.20//NONSGML v1.0//EN
CALSCALE:GREGORIAN
METHOD:PUBLISH
X-WR-CALNAME:Performance Academy
X-ORIGINAL-URL:https://asperformanceacademy.org
X-WR-CALDESC:Events for Performance Academy
REFRESH-INTERVAL;VALUE=DURATION:PT1H
X-Robots-Tag:noindex
X-PUBLISHED-TTL:PT1H
BEGIN:VTIMEZONE
TZID:Europe/London
BEGIN:DAYLIGHT
TZOFFSETFROM:+0000
TZOFFSETTO:+0100
TZNAME:BST
DTSTART:20240331T010000
END:DAYLIGHT
BEGIN:STANDARD
TZOFFSETFROM:+0100
TZOFFSETTO:+0000
TZNAME:GMT
DTSTART:20241027T010000
END:STANDARD
BEGIN:DAYLIGHT
TZOFFSETFROM:+0000
TZOFFSETTO:+0100
TZNAME:BST
DTSTART:20250330T010000
END:DAYLIGHT
BEGIN:STANDARD
TZOFFSETFROM:+0100
TZOFFSETTO:+0000
TZNAME:GMT
DTSTART:20251026T010000
END:STANDARD
BEGIN:DAYLIGHT
TZOFFSETFROM:+0000
TZOFFSETTO:+0100
TZNAME:BST
DTSTART:20260329T010000
END:DAYLIGHT
BEGIN:STANDARD
TZOFFSETFROM:+0100
TZOFFSETTO:+0000
TZNAME:GMT
DTSTART:20261025T010000
END:STANDARD
BEGIN:DAYLIGHT
TZOFFSETFROM:+0000
TZOFFSETTO:+0100
TZNAME:BST
DTSTART:20270328T010000
END:DAYLIGHT
BEGIN:STANDARD
TZOFFSETFROM:+0100
TZOFFSETTO:+0000
TZNAME:GMT
DTSTART:20271031T010000
END:STANDARD
END:VTIMEZONE
BEGIN:VEVENT
DTSTART;VALUE=DATE:20251227
DTEND;VALUE=DATE:20260103
DTSTAMP:20260425T120556
CREATED:20250822T093023Z
LAST-MODIFIED:20250822T093023Z
UID:10001749-1766793600-1767398399@asperformanceacademy.org
SUMMARY:New Years Camp 2025-2026
DESCRIPTION:We are really excited to announce we will be again running a New Years Camp in Vilamoura\, Portugal from the 27th December – 2nd January. This 5 day intensive camp is a fantastic opportunity for those looking for extra winter training hours in one of europes premier sailing venues. Each day sailors will take part in long training houses\, physical training\, video debrief and recovery sessions. Don’t miss out! \nClick here to fill out an expression of interest form
URL:https://asperformanceacademy.org/event/new-years-camp-2025-2026/
LOCATION:Vilamoura\, Marina de Vilamoura\, Vilamoura\, Quateria\, 8125-409\, Portugal
ATTACH;FMTTYPE=image/png:https://asperformanceacademy.org/wp-content/uploads/2024/02/ILCA-4-Training-Performance-Academy.png.png
GEO:37.0745572;-8.1229552
X-APPLE-STRUCTURED-LOCATION;VALUE=URI;X-ADDRESS=Vilamoura Marina de Vilamoura Vilamoura Quateria 8125-409 Portugal;X-APPLE-RADIUS=500;X-TITLE=Marina de Vilamoura:geo:-8.1229552,37.0745572
END:VEVENT
BEGIN:VEVENT
DTSTART;VALUE=DATE:20251126
DTEND;VALUE=DATE:20251201
DTSTAMP:20260425T120556
CREATED:20250822T091304Z
LAST-MODIFIED:20250822T091304Z
UID:10001746-1764115200-1764547199@asperformanceacademy.org
SUMMARY:Vilamoura Grand Prix Round 1 2025
DESCRIPTION:Join our performance academy support team at the Vilamoura GP 1 this season. This event offers early-season racing in one of Europe’s premier training venues\, with strong fleets and consistent conditions. As well as being a fantastic preparation opportunity for those attending the youth worlds. Our coaches will be on hand to provide structured support\, feedback\, and guidance throughout the regatta. The event takes place from the 27-30th November\, plus we will do one additional training day on the 26th. \nClick here to fill out an expression of interest form
URL:https://asperformanceacademy.org/event/vilamoura-grand-prix-round-1-2025/
LOCATION:Vilamoura\, Marina de Vilamoura\, Vilamoura\, Quateria\, 8125-409\, Portugal
ATTACH;FMTTYPE=image/png:https://asperformanceacademy.org/wp-content/uploads/2024/02/ILCA-6-Performance-Academy.png
GEO:37.0745572;-8.1229552
X-APPLE-STRUCTURED-LOCATION;VALUE=URI;X-ADDRESS=Vilamoura Marina de Vilamoura Vilamoura Quateria 8125-409 Portugal;X-APPLE-RADIUS=500;X-TITLE=Marina de Vilamoura:geo:-8.1229552,37.0745572
END:VEVENT
BEGIN:VEVENT
DTSTART;VALUE=DATE:20250409
DTEND;VALUE=DATE:20250412
DTSTAMP:20260425T120556
CREATED:20250403T020106Z
LAST-MODIFIED:20250403T020106Z
UID:10001320-1744156800-1744415999@asperformanceacademy.org
SUMMARY:Invitational: ILCA 6 Group Pre-Euros Training
DESCRIPTION:This three day training camp will focus on final preparation for the Europeans\, providing sailors with venue familiarisation\, focused training sessions\, and in-depth debriefs.  \n \nThis is the perfect opportunity for sailors who wish to arrive early to the event to get settled.
URL:https://asperformanceacademy.org/event/invitational-ilca-6-group-pre-euros-training/
LOCATION:Vilamoura\, Marina de Vilamoura\, Vilamoura\, Quateria\, 8125-409\, Portugal
ATTACH;FMTTYPE=image/png:https://asperformanceacademy.org/wp-content/uploads/2024/02/ILCA-6-Performance-Academy.png
GEO:37.0745572;-8.1229552
X-APPLE-STRUCTURED-LOCATION;VALUE=URI;X-ADDRESS=Vilamoura Marina de Vilamoura Vilamoura Quateria 8125-409 Portugal;X-APPLE-RADIUS=500;X-TITLE=Marina de Vilamoura:geo:-8.1229552,37.0745572
END:VEVENT
END:VCALENDAR